BEGIN:VCALENDAR
VERSION:2.0
PRODID:-//University of Technology, Jamaica - ECPv6.15.17//NONSGML v1.0//EN
CALSCALE:GREGORIAN
METHOD:PUBLISH
X-ORIGINAL-URL:https://www.utech.edu.jm
X-WR-CALDESC:Events for University of Technology, Jamaica
REFRESH-INTERVAL;VALUE=DURATION:PT1H
X-Robots-Tag:noindex
X-PUBLISHED-TTL:PT1H
BEGIN:VTIMEZONE
TZID:America/Jamaica
BEGIN:STANDARD
TZOFFSETFROM:-0500
TZOFFSETTO:-0500
TZNAME:EST
DTSTART:20240101T000000
END:STANDARD
END:VTIMEZONE
BEGIN:VEVENT
DTSTART;TZID=America/Jamaica:20250623T080000
DTEND;TZID=America/Jamaica:20250623T170000
DTSTAMP:20260421T065325
CREATED:20250623T182411Z
LAST-MODIFIED:20250910T170048Z
UID:10000009-1750665600-1750698000@www.utech.edu.jm
SUMMARY:Presidents Knight's Day 2025
DESCRIPTION:President’s Knights Day is a signature event showcasing our University’s vibrant culture and celebrating the achievements of our knights (students\, staff and alumni). 
URL:https://www.utech.edu.jm/event/presidents-knights-day/
ATTACH;FMTTYPE=image/png:https://www.utech.edu.jm/wp-content/uploads/2025/09/image.png
END:VEVENT
END:VCALENDAR